BEGIN:VCALENDAR
VERSION:2.0
PRODID:-//hacksw/handcal//NONSGML v1.0//EN
BEGIN:VEVENT
SUMMARY:STAGE BENJAMIN MINIME CADET
UID:745e4533-7038-41e6-9441-6e29920f51c8
DTSTART:20260413T073000Z
DTEND:20260414T140000Z
LOCATION:Localisation Rue Raymond Phelip 27700 les Andelys
CATEGORIES:Sportif
STATUS:
DESCRIPTION:<p>STAGE DEPARTEMENTAL</p>
 
 <p>LUNDI 13 ET MARDI 14
 AVRIL</p>
 
 <p>PREVOIR PIQUE-NIQUE</p>
 
 <p>HORAIRE 9H30 A 16H00</p>
URL;VALUE=URI:https://csadn-judo-vernon.sportsregions.fr/evenements/2026/04/13/stage-benjamin-minime-cadet-2437172
END:VEVENT
END:VCALENDAR
