BEGIN:VCALENDAR
VERSION:2.0
PRODID:-//hacksw/handcal//NONSGML v1.0//EN
BEGIN:VEVENT
SUMMARY:Regroupement departemental
UID:6cb05483-1e3e-41d3-b981-4308a5dc19e3
DTSTART:20260413T173000Z
DTEND:20260413T190000Z
LOCATION:Localisation GYMNASE HENRI BOYER 27700 les Andelys
CATEGORIES:Sportif
STATUS:
DESCRIPTION:<p>Le comite departemental organise un entrainement aux
 Andelys le lundi 13 avril de 19h30 a 21h00</p>
URL;VALUE=URI:https://csadn-judo-vernon.sportsregions.fr/evenements/2026/04/13/regroupement-departemental-2439195
END:VEVENT
END:VCALENDAR
