BEGIN:VCALENDAR
VERSION:2.0
PRODID:-//hacksw/handcal//NONSGML v1.0//EN
BEGIN:VEVENT
SUMMARY:SPORT ADAPTE
UID:6bf63651-92f7-45d7-9228-2c73d104c0ac
DTSTART:20260313T230000Z
DTEND:20260314T230000Z
LOCATION:Localisation RUE ANDRE BERTRAND 76440 FORGES LES EAUX
CATEGORIES:Sportif
STATUS:
DESCRIPTION:<p><a
 href="https://service.licences-ffjudo.com/FFJDA_events/Calendrier.aspx#"
 target="_blank" rel="noreferrer noopener"><b>CHAMPIONNAT REGIONAL
 PARA JUDO ADAPTE_NOR</b> - <i>NORMANDIE JUDO</i></a></p>
 
 <p>Le
 14/03/2026</p>
 
 <p>DOJO DEPARTEMENTAL<br>
 RUE ANDRE BERTRAND 76440,
 FORGES LES EAUX</p>
 
 <p> </p>
 
 <p>Phase de selection regionale
 qualificative pour le Championnat de France et la Coupe de France
 Para Judo Adapte</p>
 
 <p>Pesee : 13h30-14h00</p>
 
 <p>Divisionning :
 14h00 - 14h45</p>
URL;VALUE=URI:https://csadn-judo-vernon.sportsregions.fr/evenements/2026/03/14/sport-adapte-2423119
END:VEVENT
END:VCALENDAR
